BEGIN:VCALENDAR
VERSION:2.0
PRODID:spatie/icalendar-generator
DESCRIPTION:Veranstaltungen von Himmelreich Seifen
X-WR-CALDESC:Veranstaltungen von Himmelreich Seifen
REFRESH-INTERVAL;VALUE=DURATION:PT1440M
X-PUBLISHED-TTL:PT1440M
BEGIN:VTIMEZONE
TZID:Etc/GMT+0
BEGIN:STANDARD
DTSTART:20250512T100000Z
TZOFFSETFROM:+0000
TZOFFSETTO:+0000
END:STANDARD
END:VTIMEZONE
BEGIN:VTIMEZONE
TZID:UTC
BEGIN:STANDARD
DTSTART:20250725T090216Z
TZOFFSETFROM:+0000
TZOFFSETTO:+0000
END:STANDARD
END:VTIMEZONE
BEGIN:VEVENT
UID:11-3
DTSTAMP:20260421T090216Z
SUMMARY:PopUp-Store im Stadlmann-Anwesen
LOCATION:Stadlmann-Anwesen Marktplatz 47  Freystadt  92342
ORGANIZER;CN=Claudia:MAILTO:info@himmelreich-seifen.de
DTSTART;TZID=Etc/GMT+0:20260206T100000
DTEND;TZID=Etc/GMT+0:20260206T180000
X-ALT-DESC;FMTTYPE=TEXT/HTML:Willkommen im PopUp-Store im Stadlmann-Anwesen
  in Freystadt Ich habe für Euch von Donnerstag bis Samstag geöffnet\, di
 e genauen Öffnungszeiten werden aber noch entsprechend bekannt gegeben. I
 ch freue mich auf Euren Besuch!
CATEGORIES:General
URL;VALUE=URI:https://himmelreich-seifen.de/mc-events/popup-store-im-stadlm
 ann-anwesen/
METHOD:PUBLISH
END:VEVENT
END:VCALENDAR